BEGIN:VCALENDAR
VERSION:2.0
PRODID:-//Plone.org//NONSGML plone.app.event//EN
X-WR-TIMEZONE:US/Central
BEGIN:VEVENT
SUMMARY:1/2 Price Book Sale- Friends of the Library
DTSTART;TZID=US/Central:20250329T100000
DTEND;TZID=US/Central:20250329T150000
DTSTAMP:20260421T191554Z
UID:7b9b32f6656946db9a92bd773493a389@saas_stack_varnish:6080
CREATED:20250220T182106Z
LAST-MODIFIED:20250220T182147Z
URL:https://lebanon-laclede.ploud.net/calendar-news/events/1-2-price-book-
 sale-friends-of-the-library-1
END:VEVENT
BEGIN:VTIMEZONE
TZID:US/Central
X-LIC-LOCATION:US/Central
BEGIN:DAYLIGHT
DTSTART:20250309T030000
TZNAME:CDT
TZOFFSETFROM:-0600
TZOFFSETTO:-0500
END:DAYLIGHT
END:VTIMEZONE
END:VCALENDAR
