BEGIN:VCALENDAR
VERSION:2.0
PRODID:-//Plone.org//NONSGML plone.app.event//EN
X-WR-TIMEZONE:US/Central
BEGIN:VEVENT
SUMMARY:1/2 Price Book Sale
DTSTART;TZID=US/Central:20240323T100000
DTEND;TZID=US/Central:20240323T150000
DTSTAMP:20260421T172600Z
UID:7efaaeeba710407a96f8a4d0cdf4411a@saas_stack_varnish:6080
CREATED:20240226T024758Z
LAST-MODIFIED:20240226T025801Z
URL:https://lebanon-laclede.ploud.net/calendar-news/events/1-2-price-book-
 sale/2024-03-23
END:VEVENT
BEGIN:VTIMEZONE
TZID:US/Central
X-LIC-LOCATION:US/Central
BEGIN:DAYLIGHT
DTSTART:20240310T030000
TZNAME:CDT
TZOFFSETFROM:-0600
TZOFFSETTO:-0500
END:DAYLIGHT
END:VTIMEZONE
END:VCALENDAR
