BEGIN:VCALENDAR
VERSION:2.0
PRODID:-//Plone.org//NONSGML plone.app.event//EN
X-WR-TIMEZONE:US/Central
BEGIN:VEVENT
SUMMARY:2024 Eclipse Presentation
DTSTART;TZID=US/Central:20240319T180000
DTEND;TZID=US/Central:20240319T200000
DTSTAMP:20260421T171653Z
UID:01bd1527264b487f88e9cf0b6eb153d8@saas_stack_varnish:6080
CREATED:20240226T024203Z
LAST-MODIFIED:20240226T024213Z
URL:https://lebanon-laclede.ploud.net/calendar-news/events/2024-eclipse-pr
 esentation
END:VEVENT
BEGIN:VTIMEZONE
TZID:US/Central
X-LIC-LOCATION:US/Central
BEGIN:DAYLIGHT
DTSTART:20240310T030000
TZNAME:CDT
TZOFFSETFROM:-0600
TZOFFSETTO:-0500
END:DAYLIGHT
END:VTIMEZONE
END:VCALENDAR
