BEGIN:VCALENDAR
VERSION:2.0
PRODID:-//Plone.org//NONSGML plone.app.event//EN
X-WR-TIMEZONE:US/Central
BEGIN:VEVENT
SUMMARY:21st Century Missouri Gothic: The Novels and Films of Gillian Flyn
 n
DTSTART;TZID=US/Central:20241001T180000
DTEND;TZID=US/Central:20241001T200000
DTSTAMP:20260421T234959Z
UID:929b2cce1c0f4cb395ee64437209e6ac@saas_stack_varnish:6080
CREATED:20240922T012457Z
LAST-MODIFIED:20240922T012509Z
URL:https://lebanon-laclede.ploud.net/calendar-news/events/21st-century-mi
 ssouri-gothic-the-novels-and-films-of-gillian-flynn
END:VEVENT
BEGIN:VTIMEZONE
TZID:US/Central
X-LIC-LOCATION:US/Central
BEGIN:DAYLIGHT
DTSTART:20240310T030000
TZNAME:CDT
TZOFFSETFROM:-0600
TZOFFSETTO:-0500
END:DAYLIGHT
END:VTIMEZONE
END:VCALENDAR
