BEGIN:VCALENDAR
VERSION:2.0
PRODID:-//Plone.org//NONSGML plone.app.event//EN
X-WR-TIMEZONE:US/Central
BEGIN:VEVENT
SUMMARY:27th Annual Nightingale Poetry Reading
DTSTART;TZID=US/Central:20250417T183000
DTSTAMP:20260421T190234Z
UID:e80ca5456555475e93d868418d0f13b4@saas_stack_varnish:6080
CREATED:20250328T151748Z
LAST-MODIFIED:20250328T151756Z
URL:https://lebanon-laclede.ploud.net/calendar-news/events/27th-annual-nig
 htingale-poetry-reading
END:VEVENT
BEGIN:VTIMEZONE
TZID:US/Central
X-LIC-LOCATION:US/Central
BEGIN:DAYLIGHT
DTSTART:20250309T030000
TZNAME:CDT
TZOFFSETFROM:-0600
TZOFFSETTO:-0500
END:DAYLIGHT
END:VTIMEZONE
END:VCALENDAR
