BEGIN:VCALENDAR
VERSION:2.0
PRODID:-//Plone.org//NONSGML plone.app.event//EN
X-WR-TIMEZONE:US/Central
BEGIN:VEVENT
SUMMARY:Adult Book Club: History for the Books
DTSTART;TZID=US/Central:20250519T180000
DTEND;TZID=US/Central:20250519T190000
DTSTAMP:20260421T172610Z
UID:3d48aa13400f467eaa269b8b590f9856@saas_stack_varnish:6080
CREATED:20250501T023701Z
LAST-MODIFIED:20250501T023707Z
URL:https://lebanon-laclede.ploud.net/calendar-news/events/adult-book-club
 -history-for-the-books-12
END:VEVENT
BEGIN:VTIMEZONE
TZID:US/Central
X-LIC-LOCATION:US/Central
BEGIN:DAYLIGHT
DTSTART:20250309T030000
TZNAME:CDT
TZOFFSETFROM:-0600
TZOFFSETTO:-0500
END:DAYLIGHT
END:VTIMEZONE
END:VCALENDAR
