BEGIN:VCALENDAR
VERSION:2.0
PRODID:-//Plone.org//NONSGML plone.app.event//EN
X-WR-TIMEZONE:US/Central
BEGIN:VEVENT
SUMMARY:Adult Book Club: History for the Books
DTSTART;TZID=US/Central:20251229T180000
DTEND;TZID=US/Central:20251229T200000
DTSTAMP:20260421T095336Z
UID:50bd13a18c9b442094cfdde84389a912@saas_stack_varnish:6080
CREATED:20251126T175211Z
LAST-MODIFIED:20251126T175218Z
URL:https://lebanon-laclede.ploud.net/calendar-news/events/adult-book-club
 -history-for-the-books-19
END:VEVENT
BEGIN:VTIMEZONE
TZID:US/Central
X-LIC-LOCATION:US/Central
BEGIN:STANDARD
DTSTART:20251102T010000
TZNAME:CST
TZOFFSETFROM:-0500
TZOFFSETTO:-0600
END:STANDARD
END:VTIMEZONE
END:VCALENDAR
