BEGIN:VCALENDAR
VERSION:2.0
PRODID:-//Plone.org//NONSGML plone.app.event//EN
X-WR-TIMEZONE:US/Central
BEGIN:VEVENT
SUMMARY:Adult Book Club: History for the Books
DTSTART;TZID=US/Central:20241125T180000
DTEND;TZID=US/Central:20241125T200000
DTSTAMP:20260421T233906Z
UID:c3fa48bc80b6472e98e97bb93f0a7953@saas_stack_varnish:6080
CREATED:20241105T193145Z
LAST-MODIFIED:20241105T193215Z
URL:https://lebanon-laclede.ploud.net/calendar-news/events/adult-book-club
 -history-for-the-books-5
END:VEVENT
BEGIN:VTIMEZONE
TZID:US/Central
X-LIC-LOCATION:US/Central
BEGIN:STANDARD
DTSTART:20241103T010000
TZNAME:CST
TZOFFSETFROM:-0500
TZOFFSETTO:-0600
END:STANDARD
END:VTIMEZONE
END:VCALENDAR
