BEGIN:VCALENDAR
VERSION:2.0
PRODID:-//Plone.org//NONSGML plone.app.event//EN
X-WR-TIMEZONE:US/Central
BEGIN:VEVENT
SUMMARY:Adult Book Club: History for the Books
DTSTART;TZID=US/Central:20241223T180000
DTEND;TZID=US/Central:20241223T190000
DTSTAMP:20260421T222423Z
UID:103ab2a4f850459782012568d1060a41@saas_stack_varnish:6080
CREATED:20241202T195816Z
LAST-MODIFIED:20241202T200007Z
URL:https://lebanon-laclede.ploud.net/calendar-news/events/adult-book-club
 -history-for-the-books-6
END:VEVENT
BEGIN:VTIMEZONE
TZID:US/Central
X-LIC-LOCATION:US/Central
BEGIN:STANDARD
DTSTART:20241103T010000
TZNAME:CST
TZOFFSETFROM:-0500
TZOFFSETTO:-0600
END:STANDARD
END:VTIMEZONE
END:VCALENDAR
