BEGIN:VCALENDAR
VERSION:2.0
PRODID:-//Plone.org//NONSGML plone.app.event//EN
X-WR-TIMEZONE:US/Central
BEGIN:VEVENT
SUMMARY:Adult Book Club: History for the Books
DTSTART;TZID=US/Central:20250127T180000
DTEND;TZID=US/Central:20250127T190000
DTSTAMP:20260421T220439Z
UID:355a0fb517504137aa46a2f2e6ea5143@saas_stack_varnish:6080
CREATED:20241230T192634Z
LAST-MODIFIED:20241230T192645Z
URL:https://lebanon-laclede.ploud.net/calendar-news/events/adult-book-club
 -history-for-the-books-7
END:VEVENT
BEGIN:VTIMEZONE
TZID:US/Central
X-LIC-LOCATION:US/Central
BEGIN:STANDARD
DTSTART:20241103T010000
TZNAME:CST
TZOFFSETFROM:-0500
TZOFFSETTO:-0600
END:STANDARD
END:VTIMEZONE
END:VCALENDAR
