BEGIN:VCALENDAR
VERSION:2.0
PRODID:-//Plone.org//NONSGML plone.app.event//EN
X-WR-TIMEZONE:US/Central
BEGIN:VEVENT
SUMMARY:Adult event: Bingo for Books
DTSTART;TZID=US/Central:20251013T170000
DTEND;TZID=US/Central:20251013T190000
DTSTAMP:20260421T111636Z
UID:6d5fe88e23fc4fae9f4593b80f4c3b32@saas_stack_varnish:6080
CREATED:20250821T145707Z
LAST-MODIFIED:20250821T145933Z
URL:https://lebanon-laclede.ploud.net/calendar-news/events/adult-event-bin
 go-for-books
END:VEVENT
BEGIN:VTIMEZONE
TZID:US/Central
X-LIC-LOCATION:US/Central
BEGIN:DAYLIGHT
DTSTART:20250309T030000
TZNAME:CDT
TZOFFSETFROM:-0600
TZOFFSETTO:-0500
END:DAYLIGHT
END:VTIMEZONE
END:VCALENDAR
