BEGIN:VCALENDAR
VERSION:2.0
PRODID:-//Plone.org//NONSGML plone.app.event//EN
X-WR-TIMEZONE:US/Central
BEGIN:VEVENT
SUMMARY:Adult Event: Build a Terrarium
DTSTART;TZID=US/Central:20230701T110000
DTEND;TZID=US/Central:20230701T120000
DTSTAMP:20260421T101759Z
UID:46e24a365d9b4e96b2226e24bdfe97eb@saas_stack_varnish:6080
CONTACT:4175322148\, https://forms.gle/Cxscz4fexf6pfNeu7
CREATED:20230524T182834Z
LAST-MODIFIED:20230524T182842Z
LOCATION:Library meeting rooms
URL:https://lebanon-laclede.ploud.net/calendar-news/events/adult-event-bui
 ld-a-terrarium
END:VEVENT
BEGIN:VTIMEZONE
TZID:US/Central
X-LIC-LOCATION:US/Central
BEGIN:DAYLIGHT
DTSTART:20230312T030000
TZNAME:CDT
TZOFFSETFROM:-0600
TZOFFSETTO:-0500
END:DAYLIGHT
END:VTIMEZONE
END:VCALENDAR
