BEGIN:VCALENDAR
VERSION:2.0
PRODID:-//Plone.org//NONSGML plone.app.event//EN
X-WR-TIMEZONE:US/Central
BEGIN:VEVENT
SUMMARY:Adult Event: Christmas Craft and Movie Night
DTSTART;TZID=US/Central:20241210T173000
DTEND;TZID=US/Central:20241210T193000
DTSTAMP:20260421T234940Z
UID:c41af4ac575043f995387126a0418efd@saas_stack_varnish:6080
CREATED:20241119T150643Z
LAST-MODIFIED:20241119T150651Z
URL:https://lebanon-laclede.ploud.net/calendar-news/events/adult-event-chr
 istmas-craft-and-movie-night
END:VEVENT
BEGIN:VTIMEZONE
TZID:US/Central
X-LIC-LOCATION:US/Central
BEGIN:STANDARD
DTSTART:20241103T010000
TZNAME:CST
TZOFFSETFROM:-0500
TZOFFSETTO:-0600
END:STANDARD
END:VTIMEZONE
END:VCALENDAR
