BEGIN:VCALENDAR
VERSION:2.0
PRODID:-//Plone.org//NONSGML plone.app.event//EN
X-WR-TIMEZONE:US/Central
BEGIN:VEVENT
SUMMARY:Adult Event: Christmas in a Tiny Tin
DTSTART;TZID=US/Central:20231207T180000
DTEND;TZID=US/Central:20231207T200000
DTSTAMP:20260421T142555Z
UID:f937f65654bb4c61a71c478d3add0ac9@saas_stack_varnish:6080
CREATED:20231121T175401Z
LAST-MODIFIED:20231121T175409Z
URL:https://lebanon-laclede.ploud.net/calendar-news/events/adult-event-chr
 istmas-in-a-tiny-tin
END:VEVENT
BEGIN:VTIMEZONE
TZID:US/Central
X-LIC-LOCATION:US/Central
BEGIN:STANDARD
DTSTART:20231105T010000
TZNAME:CST
TZOFFSETFROM:-0500
TZOFFSETTO:-0600
END:STANDARD
END:VTIMEZONE
END:VCALENDAR
