BEGIN:VCALENDAR
VERSION:2.0
PRODID:-//Plone.org//NONSGML plone.app.event//EN
X-WR-TIMEZONE:US/Central
BEGIN:VEVENT
SUMMARY:Adult Event: E-Reader Case Decorating
DTSTART;TZID=US/Central:20250621T110000
DTEND;TZID=US/Central:20250621T130000
DTSTAMP:20260421T154130Z
UID:e16ddc941ba64ed2b241168aebb00d40@saas_stack_varnish:6080
CREATED:20250512T180409Z
LAST-MODIFIED:20250512T183151Z
URL:https://lebanon-laclede.ploud.net/calendar-news/events/adult-event-e-r
 eader-case-decorating
END:VEVENT
BEGIN:VTIMEZONE
TZID:US/Central
X-LIC-LOCATION:US/Central
BEGIN:DAYLIGHT
DTSTART:20250309T030000
TZNAME:CDT
TZOFFSETFROM:-0600
TZOFFSETTO:-0500
END:DAYLIGHT
END:VTIMEZONE
END:VCALENDAR
