BEGIN:VCALENDAR
VERSION:2.0
PRODID:-//Plone.org//NONSGML plone.app.event//EN
X-WR-TIMEZONE:US/Central
BEGIN:VEVENT
SUMMARY:Adult Event: Recycled Wood Art
DTSTART;TZID=US/Central:20260326T180000
DTEND;TZID=US/Central:20260326T190000
DTSTAMP:20260421T081752Z
UID:5f897d10c824412ba42695c300715be7@saas_stack_varnish:6080
CREATED:20260317T173123Z
LAST-MODIFIED:20260317T173203Z
URL:https://lebanon-laclede.ploud.net/calendar-news/events/adult-event-rec
 ycled-wood-art
END:VEVENT
BEGIN:VTIMEZONE
TZID:US/Central
X-LIC-LOCATION:US/Central
BEGIN:DAYLIGHT
DTSTART:20260308T030000
TZNAME:CDT
TZOFFSETFROM:-0600
TZOFFSETTO:-0500
END:DAYLIGHT
END:VTIMEZONE
END:VCALENDAR
