BEGIN:VCALENDAR
VERSION:2.0
PRODID:-//Plone.org//NONSGML plone.app.event//EN
X-WR-TIMEZONE:US/Central
BEGIN:VEVENT
SUMMARY:Adult Event: Spooky Craft and Movie
DTSTART;TZID=US/Central:20241022T173000
DTEND;TZID=US/Central:20241022T200000
DTSTAMP:20260422T000125Z
UID:d6f8c6888a5441628c296d7da50c3a63@saas_stack_varnish:6080
CREATED:20240922T015929Z
LAST-MODIFIED:20240922T015938Z
URL:https://lebanon-laclede.ploud.net/calendar-news/events/adult-event-spo
 oky-craft-and-movie
END:VEVENT
BEGIN:VTIMEZONE
TZID:US/Central
X-LIC-LOCATION:US/Central
BEGIN:DAYLIGHT
DTSTART:20240310T030000
TZNAME:CDT
TZOFFSETFROM:-0600
TZOFFSETTO:-0500
END:DAYLIGHT
END:VTIMEZONE
END:VCALENDAR
