BEGIN:VCALENDAR
VERSION:2.0
PRODID:-//Plone.org//NONSGML plone.app.event//EN
X-WR-TIMEZONE:US/Central
BEGIN:VEVENT
SUMMARY:Adult Event: Vintage Jeweled Christmas Tree Craft
DTSTART;TZID=US/Central:20251222T173000
DTEND;TZID=US/Central:20251222T193000
DTSTAMP:20260421T095343Z
UID:f3b31443542948ee9a3c017380011deb@saas_stack_varnish:6080
CREATED:20251126T175002Z
LAST-MODIFIED:20251126T175010Z
URL:https://lebanon-laclede.ploud.net/calendar-news/events/adult-event-vin
 tage-jeweled-christmas-tree-craft
END:VEVENT
BEGIN:VTIMEZONE
TZID:US/Central
X-LIC-LOCATION:US/Central
BEGIN:STANDARD
DTSTART:20251102T010000
TZNAME:CST
TZOFFSETFROM:-0500
TZOFFSETTO:-0600
END:STANDARD
END:VTIMEZONE
END:VCALENDAR
