BEGIN:VCALENDAR
VERSION:2.0
PRODID:-//Plone.org//NONSGML plone.app.event//EN
X-WR-TIMEZONE:US/Central
BEGIN:VEVENT
SUMMARY:Afternoon Art at the Library
DTSTART;TZID=US/Central:20260217T140000
DTEND;TZID=US/Central:20260217T160000
DTSTAMP:20260421T081644Z
UID:76aabb14cb6248e7ac3cbefca4bb2d66@saas_stack_varnish:6080
CREATED:20260124T223335Z
LAST-MODIFIED:20260216T143620Z
URL:https://lebanon-laclede.ploud.net/calendar-news/events/afternoon-art-a
 t-the-library/2026-02-17
END:VEVENT
BEGIN:VTIMEZONE
TZID:US/Central
X-LIC-LOCATION:US/Central
BEGIN:STANDARD
DTSTART:20251102T010000
TZNAME:CST
TZOFFSETFROM:-0500
TZOFFSETTO:-0600
END:STANDARD
END:VTIMEZONE
END:VCALENDAR
