BEGIN:VCALENDAR
VERSION:2.0
PRODID:-//Plone.org//NONSGML plone.app.event//EN
X-WR-TIMEZONE:US/Central
BEGIN:VEVENT
SUMMARY:Afternoon Art at the Library
DTSTART;TZID=US/Central:20260203T140000
DTEND;TZID=US/Central:20260203T160000
DTSTAMP:20260421T081434Z
UID:76aabb14cb6248e7ac3cbefca4bb2d66@saas_stack_varnish:6080
RRULE:FREQ=DAILY;COUNT=7
EXDATE;TZID=US/Central:20260204T000000,20260205T000000,20260206T000000,202
 60207T000000,20260208T000000,20260209T000000
CREATED:20260124T223335Z
LAST-MODIFIED:20260216T143620Z
URL:https://lebanon-laclede.ploud.net/calendar-news/events/afternoon-art-a
 t-the-library
END:VEVENT
BEGIN:VTIMEZONE
TZID:US/Central
X-LIC-LOCATION:US/Central
BEGIN:STANDARD
DTSTART:20251102T010000
TZNAME:CST
TZOFFSETFROM:-0500
TZOFFSETTO:-0600
END:STANDARD
END:VTIMEZONE
END:VCALENDAR
