BEGIN:VCALENDAR
VERSION:2.0
PRODID:-//Plone.org//NONSGML plone.app.event//EN
X-WR-TIMEZONE:US/Central
BEGIN:VEVENT
SUMMARY:An Old Hollywood 'WHODUNNIT'- Hosted by the Lebanon-Laclede County
  Public Library Foundation
DTSTART;TZID=US/Central:20251016T173000
DTSTAMP:20260421T111647Z
UID:256b044f916a443e9d45543d36919ea7@saas_stack_varnish:6080
CREATED:20250507T201747Z
LAST-MODIFIED:20250507T201753Z
URL:https://lebanon-laclede.ploud.net/calendar-news/events/an-old-hollywoo
 d-whodunnit-hosted-by-the-lebanon-laclede-county-public-library-foundation
END:VEVENT
BEGIN:VTIMEZONE
TZID:US/Central
X-LIC-LOCATION:US/Central
BEGIN:DAYLIGHT
DTSTART:20250309T030000
TZNAME:CDT
TZOFFSETFROM:-0600
TZOFFSETTO:-0500
END:DAYLIGHT
END:VTIMEZONE
END:VCALENDAR
