BEGIN:VCALENDAR
VERSION:2.0
PRODID:-//Plone.org//NONSGML plone.app.event//EN
X-WR-TIMEZONE:US/Central
BEGIN:VEVENT
SUMMARY:"Animal Camouflage" with the Missouri Department of Conservation
DTSTART;TZID=US/Central:20250603T100000
DTEND;TZID=US/Central:20250603T110000
DTSTAMP:20260421T191554Z
UID:f5810e66b6c045ddad2ffa352911132e@saas_stack_varnish:6080
CREATED:20250428T033929Z
LAST-MODIFIED:20250428T033955Z
URL:https://lebanon-laclede.ploud.net/calendar-news/events/animal-camoufla
 ge-with-the-missouri-department-of-conservation
END:VEVENT
BEGIN:VTIMEZONE
TZID:US/Central
X-LIC-LOCATION:US/Central
BEGIN:DAYLIGHT
DTSTART:20250309T030000
TZNAME:CDT
TZOFFSETFROM:-0600
TZOFFSETTO:-0500
END:DAYLIGHT
END:VTIMEZONE
END:VCALENDAR
