BEGIN:VCALENDAR
VERSION:2.0
PRODID:-//Plone.org//NONSGML plone.app.event//EN
X-WR-TIMEZONE:US/Central
BEGIN:VEVENT
SUMMARY:Artsy Smartsy
DTSTART;TZID=US/Central:20230628T100000
DTEND;TZID=US/Central:20230628T110000
DTSTAMP:20260421T093804Z
UID:cfdb7dad5be24aafb3875b7387aebc4e@saas_stack_varnish:6080
CONTACT:4175322148
CREATED:20230524T182304Z
LAST-MODIFIED:20230524T190216Z
LOCATION:Lebanon-Laclede County Library in Andys room
URL:https://lebanon-laclede.ploud.net/calendar-news/events/artsy-smartsy-2
END:VEVENT
BEGIN:VTIMEZONE
TZID:US/Central
X-LIC-LOCATION:US/Central
BEGIN:DAYLIGHT
DTSTART:20230312T030000
TZNAME:CDT
TZOFFSETFROM:-0600
TZOFFSETTO:-0500
END:DAYLIGHT
END:VTIMEZONE
END:VCALENDAR
