BEGIN:VCALENDAR
VERSION:2.0
PRODID:-//Plone.org//NONSGML plone.app.event//EN
X-WR-TIMEZONE:US/Central
BEGIN:VEVENT
SUMMARY:Artsy Smartsy
DTSTART;TZID=US/Central:20240529T100000
DTEND;TZID=US/Central:20240529T110000
DTSTAMP:20260421T185929Z
UID:5e09e3bfef3d4d31bff1ed493c2ae8e6@saas_stack_varnish:6080
CREATED:20240430T195755Z
LAST-MODIFIED:20240430T195803Z
URL:https://lebanon-laclede.ploud.net/calendar-news/events/artsy-smartsy-4
END:VEVENT
BEGIN:VTIMEZONE
TZID:US/Central
X-LIC-LOCATION:US/Central
BEGIN:DAYLIGHT
DTSTART:20240310T030000
TZNAME:CDT
TZOFFSETFROM:-0600
TZOFFSETTO:-0500
END:DAYLIGHT
END:VTIMEZONE
END:VCALENDAR
