BEGIN:VCALENDAR
VERSION:2.0
PRODID:-//Plone.org//NONSGML plone.app.event//EN
X-WR-TIMEZONE:US/Central
BEGIN:VEVENT
SUMMARY:Artsy Smartsy
DTSTART;TZID=US/Central:20240612T100000
DTEND;TZID=US/Central:20240612T110000
DTSTAMP:20260421T215730Z
UID:d4e156754b8a4e3da6bc5ca288dd9378@saas_stack_varnish:6080
CREATED:20240514T010508Z
LAST-MODIFIED:20240514T010526Z
URL:https://lebanon-laclede.ploud.net/calendar-news/events/artsy-smartsy-5
END:VEVENT
BEGIN:VTIMEZONE
TZID:US/Central
X-LIC-LOCATION:US/Central
BEGIN:DAYLIGHT
DTSTART:20240310T030000
TZNAME:CDT
TZOFFSETFROM:-0600
TZOFFSETTO:-0500
END:DAYLIGHT
END:VTIMEZONE
END:VCALENDAR
