BEGIN:VCALENDAR
VERSION:2.0
PRODID:-//Plone.org//NONSGML plone.app.event//EN
X-WR-TIMEZONE:US/Central
BEGIN:VEVENT
SUMMARY:Artsy Smartsy
DTSTART;TZID=US/Central:20240626T100000
DTEND;TZID=US/Central:20240626T110000
DTSTAMP:20260421T202719Z
UID:cef280b7371c49cc9619b8f083842690@saas_stack_varnish:6080
CREATED:20240529T221535Z
LAST-MODIFIED:20240529T221553Z
URL:https://lebanon-laclede.ploud.net/calendar-news/events/artsy-smartsy-6
END:VEVENT
BEGIN:VTIMEZONE
TZID:US/Central
X-LIC-LOCATION:US/Central
BEGIN:DAYLIGHT
DTSTART:20240310T030000
TZNAME:CDT
TZOFFSETFROM:-0600
TZOFFSETTO:-0500
END:DAYLIGHT
END:VTIMEZONE
END:VCALENDAR
