BEGIN:VCALENDAR
VERSION:2.0
PRODID:-//Plone.org//NONSGML plone.app.event//EN
X-WR-TIMEZONE:US/Central
BEGIN:VEVENT
SUMMARY:Artsy Smartsy
DTSTART;TZID=US/Central:20250528T100000
DTEND;TZID=US/Central:20250528T110000
DTSTAMP:20260421T171928Z
UID:167409ca31a240dda3dbe75e19ed0303@saas_stack_varnish:6080
RRULE:FREQ=WEEKLY;COUNT=7;BYDAY=WE
EXDATE;TZID=US/Central:20250604T000000,20250618T000000,20250702T000000,202
 50709T000000
CREATED:20250428T032345Z
LAST-MODIFIED:20250507T190917Z
URL:https://lebanon-laclede.ploud.net/calendar-news/events/artsy-smartsy-9
END:VEVENT
BEGIN:VTIMEZONE
TZID:US/Central
X-LIC-LOCATION:US/Central
BEGIN:DAYLIGHT
DTSTART:20250309T030000
TZNAME:CDT
TZOFFSETFROM:-0600
TZOFFSETTO:-0500
END:DAYLIGHT
END:VTIMEZONE
END:VCALENDAR
