BEGIN:VCALENDAR
VERSION:2.0
PRODID:-//Plone.org//NONSGML plone.app.event//EN
X-WR-TIMEZONE:US/Central
BEGIN:VEVENT
SUMMARY:Autumn Harvest Tea Party
DTSTART;TZID=US/Central:20231007T130000
DTEND;TZID=US/Central:20231007T150000
DTSTAMP:20260421T125201Z
UID:7527e9f5e4104d6b8c13958220e8013b@saas_stack_varnish:6080
CREATED:20230829T195618Z
LAST-MODIFIED:20230829T205356Z
LOCATION:Lebanon-Laclede County library
URL:https://lebanon-laclede.ploud.net/calendar-news/events/autumn-harvest-
 tea-party
END:VEVENT
BEGIN:VTIMEZONE
TZID:US/Central
X-LIC-LOCATION:US/Central
BEGIN:DAYLIGHT
DTSTART:20230312T030000
TZNAME:CDT
TZOFFSETFROM:-0600
TZOFFSETTO:-0500
END:DAYLIGHT
END:VTIMEZONE
END:VCALENDAR
