BEGIN:VCALENDAR
VERSION:2.0
PRODID:-//Plone.org//NONSGML plone.app.event//EN
X-WR-TIMEZONE:US/Central
BEGIN:VEVENT
SUMMARY:Back-to-School Give-Away
DTSTART;TZID=US/Central:20240816T100000
DTEND;TZID=US/Central:20240816T120000
DTSTAMP:20260421T232837Z
UID:5afb856e5da249d995e29495e9dd6a82@saas_stack_varnish:6080
CREATED:20240806T164428Z
LAST-MODIFIED:20240806T164434Z
URL:https://lebanon-laclede.ploud.net/calendar-news/events/back-to-school-
 give-away
END:VEVENT
BEGIN:VTIMEZONE
TZID:US/Central
X-LIC-LOCATION:US/Central
BEGIN:DAYLIGHT
DTSTART:20240310T030000
TZNAME:CDT
TZOFFSETFROM:-0600
TZOFFSETTO:-0500
END:DAYLIGHT
END:VTIMEZONE
END:VCALENDAR
