BEGIN:VCALENDAR
VERSION:2.0
PRODID:-//Plone.org//NONSGML plone.app.event//EN
X-WR-TIMEZONE:US/Central
BEGIN:VEVENT
SUMMARY:Barbara Baird Milling around Presentation
DTSTART;TZID=US/Central:20260430T180000
DTEND;TZID=US/Central:20260430T190000
DTSTAMP:20260425T124216Z
UID:f39ced6f7809445eba63501332a9de45@saas_stack_varnish:6080
CREATED:20260317T173908Z
LAST-MODIFIED:20260317T173918Z
URL:https://lebanon-laclede.ploud.net/calendar-news/events/barbara-baird-m
 illing-around-presentation
END:VEVENT
BEGIN:VTIMEZONE
TZID:US/Central
X-LIC-LOCATION:US/Central
BEGIN:DAYLIGHT
DTSTART:20260308T030000
TZNAME:CDT
TZOFFSETFROM:-0600
TZOFFSETTO:-0500
END:DAYLIGHT
END:VTIMEZONE
END:VCALENDAR
