BEGIN:VCALENDAR
VERSION:2.0
PRODID:-//Plone.org//NONSGML plone.app.event//EN
X-WR-TIMEZONE:US/Central
BEGIN:VEVENT
SUMMARY:Bingo for Books
DTSTART;TZID=US/Central:20241014T170000
DTEND;TZID=US/Central:20241014T190000
DTSTAMP:20260422T010914Z
UID:3426c41cb6e542209eee36e0501b2375@saas_stack_varnish:6080
CREATED:20240922T015558Z
LAST-MODIFIED:20240922T015607Z
URL:https://lebanon-laclede.ploud.net/calendar-news/events/bingo-for-books
 -1
END:VEVENT
BEGIN:VTIMEZONE
TZID:US/Central
X-LIC-LOCATION:US/Central
BEGIN:DAYLIGHT
DTSTART:20240310T030000
TZNAME:CDT
TZOFFSETFROM:-0600
TZOFFSETTO:-0500
END:DAYLIGHT
END:VTIMEZONE
END:VCALENDAR
