BEGIN:VCALENDAR
VERSION:2.0
PRODID:-//Plone.org//NONSGML plone.app.event//EN
X-WR-TIMEZONE:US/Central
BEGIN:VEVENT
SUMMARY:Bingo for Books
DTSTART;TZID=US/Central:20241209T170000
DTEND;TZID=US/Central:20241209T190000
DTSTAMP:20260421T232809Z
UID:e3fecfd4198f4d4fb3459ef7e927fc28@saas_stack_varnish:6080
CREATED:20241202T194033Z
LAST-MODIFIED:20241202T194042Z
URL:https://lebanon-laclede.ploud.net/calendar-news/events/bingo-for-books
 -2
END:VEVENT
BEGIN:VTIMEZONE
TZID:US/Central
X-LIC-LOCATION:US/Central
BEGIN:STANDARD
DTSTART:20241103T010000
TZNAME:CST
TZOFFSETFROM:-0500
TZOFFSETTO:-0600
END:STANDARD
END:VTIMEZONE
END:VCALENDAR
