BEGIN:VCALENDAR
VERSION:2.0
PRODID:-//Plone.org//NONSGML plone.app.event//EN
X-WR-TIMEZONE:US/Central
BEGIN:VEVENT
SUMMARY:Bingo for Books
DTSTART;TZID=US/Central:20250210T170000
DTEND;TZID=US/Central:20250210T190000
DTSTAMP:20260421T202658Z
UID:b67481e6856240d6856d8468ee0978bf@saas_stack_varnish:6080
CREATED:20250127T205547Z
LAST-MODIFIED:20250127T205557Z
URL:https://lebanon-laclede.ploud.net/calendar-news/events/bingo-for-books
 -3
END:VEVENT
BEGIN:VTIMEZONE
TZID:US/Central
X-LIC-LOCATION:US/Central
BEGIN:STANDARD
DTSTART:20241103T010000
TZNAME:CST
TZOFFSETFROM:-0500
TZOFFSETTO:-0600
END:STANDARD
END:VTIMEZONE
END:VCALENDAR
