BEGIN:VCALENDAR
VERSION:2.0
PRODID:-//Plone.org//NONSGML plone.app.event//EN
X-WR-TIMEZONE:US/Central
BEGIN:VEVENT
SUMMARY:Bingo for Books
DTSTART;TZID=US/Central:20250410T170000
DTEND;TZID=US/Central:20250410T190000
DTSTAMP:20260421T185930Z
UID:6e707381a47549fa9540a49b8b720d9e@saas_stack_varnish:6080
CREATED:20250328T151323Z
LAST-MODIFIED:20250328T151334Z
URL:https://lebanon-laclede.ploud.net/calendar-news/events/bingo-for-books
 -4
END:VEVENT
BEGIN:VTIMEZONE
TZID:US/Central
X-LIC-LOCATION:US/Central
BEGIN:DAYLIGHT
DTSTART:20250309T030000
TZNAME:CDT
TZOFFSETFROM:-0600
TZOFFSETTO:-0500
END:DAYLIGHT
END:VTIMEZONE
END:VCALENDAR
