BEGIN:VCALENDAR
VERSION:2.0
PRODID:-//Plone.org//NONSGML plone.app.event//EN
X-WR-TIMEZONE:US/Central
BEGIN:VEVENT
SUMMARY:Bingo for Books
DTSTART;TZID=US/Central:20250602T170000
DTEND;TZID=US/Central:20250602T190000
DTSTAMP:20260421T185929Z
UID:fa1c324fa86a4fe7ba0d7eed732c3cfc@saas_stack_varnish:6080
CREATED:20250501T024828Z
LAST-MODIFIED:20250501T024834Z
URL:https://lebanon-laclede.ploud.net/calendar-news/events/bingo-for-books
 -5
END:VEVENT
BEGIN:VTIMEZONE
TZID:US/Central
X-LIC-LOCATION:US/Central
BEGIN:DAYLIGHT
DTSTART:20250309T030000
TZNAME:CDT
TZOFFSETFROM:-0600
TZOFFSETTO:-0500
END:DAYLIGHT
END:VTIMEZONE
END:VCALENDAR
