BEGIN:VCALENDAR
VERSION:2.0
PRODID:-//Plone.org//NONSGML plone.app.event//EN
X-WR-TIMEZONE:US/Central
BEGIN:VEVENT
SUMMARY:Bingo for Books
DTSTART;TZID=US/Central:20250811T160000
DTEND;TZID=US/Central:20250811T190000
DTSTAMP:20260421T142212Z
UID:84d7acc2295b4b06b550080d5881f256@saas_stack_varnish:6080
CREATED:20250804T131209Z
LAST-MODIFIED:20250804T131219Z
URL:https://lebanon-laclede.ploud.net/calendar-news/events/bingo-for-books
 -6
END:VEVENT
BEGIN:VTIMEZONE
TZID:US/Central
X-LIC-LOCATION:US/Central
BEGIN:DAYLIGHT
DTSTART:20250309T030000
TZNAME:CDT
TZOFFSETFROM:-0600
TZOFFSETTO:-0500
END:DAYLIGHT
END:VTIMEZONE
END:VCALENDAR
