BEGIN:VCALENDAR
VERSION:2.0
PRODID:-//Plone.org//NONSGML plone.app.event//EN
X-WR-TIMEZONE:US/Central
BEGIN:VEVENT
SUMMARY:Blood Drive
DTSTART;TZID=US/Central:20231011T123000
DTEND;TZID=US/Central:20231011T180000
DTSTAMP:20260421T124211Z
UID:171da86cce154662a8b71a8638b079aa@saas_stack_varnish:6080
CREATED:20230925T211014Z
LAST-MODIFIED:20230925T211027Z
LOCATION:Lebanon-Laclede County library
URL:https://lebanon-laclede.ploud.net/calendar-news/events/blood-drive-1
END:VEVENT
BEGIN:VTIMEZONE
TZID:US/Central
X-LIC-LOCATION:US/Central
BEGIN:DAYLIGHT
DTSTART:20230312T030000
TZNAME:CDT
TZOFFSETFROM:-0600
TZOFFSETTO:-0500
END:DAYLIGHT
END:VTIMEZONE
END:VCALENDAR
