BEGIN:VCALENDAR
VERSION:2.0
PRODID:-//Plone.org//NONSGML plone.app.event//EN
X-WR-TIMEZONE:US/Central
BEGIN:VEVENT
SUMMARY:Blood Drive
DTSTART;TZID=US/Central:20231213T123000
DTEND;TZID=US/Central:20231213T180000
DTSTAMP:20260421T142138Z
UID:45be9478bab74251b179aa29f6633322@saas_stack_varnish:6080
CREATED:20231121T180006Z
LAST-MODIFIED:20231121T180021Z
URL:https://lebanon-laclede.ploud.net/calendar-news/events/blood-drive-2
END:VEVENT
BEGIN:VTIMEZONE
TZID:US/Central
X-LIC-LOCATION:US/Central
BEGIN:STANDARD
DTSTART:20231105T010000
TZNAME:CST
TZOFFSETFROM:-0500
TZOFFSETTO:-0600
END:STANDARD
END:VTIMEZONE
END:VCALENDAR
