BEGIN:VCALENDAR
VERSION:2.0
PRODID:-//Plone.org//NONSGML plone.app.event//EN
X-WR-TIMEZONE:US/Central
BEGIN:VEVENT
SUMMARY:Book$ for Buck$: Back to School Sale
DTSTART;TZID=US/Central:20240810T100000
DTEND;TZID=US/Central:20240810T140000
DTSTAMP:20260421T233252Z
UID:3be49110768e46749ddbbc539a0bb7bf@saas_stack_varnish:6080
CREATED:20240806T164107Z
LAST-MODIFIED:20240806T164115Z
URL:https://lebanon-laclede.ploud.net/calendar-news/events/book-for-buck-b
 ack-to-school-sale
END:VEVENT
BEGIN:VTIMEZONE
TZID:US/Central
X-LIC-LOCATION:US/Central
BEGIN:DAYLIGHT
DTSTART:20240310T030000
TZNAME:CDT
TZOFFSETFROM:-0600
TZOFFSETTO:-0500
END:DAYLIGHT
END:VTIMEZONE
END:VCALENDAR
