BEGIN:VCALENDAR
VERSION:2.0
PRODID:-//Plone.org//NONSGML plone.app.event//EN
X-WR-TIMEZONE:US/Central
BEGIN:VEVENT
SUMMARY:Book$ for Buck$: Holiday Edition Sale
DTSTART;TZID=US/Central:20251213T100000
DTEND;TZID=US/Central:20251213T140000
DTSTAMP:20260419T151605Z
UID:0d8edaea1e924feba777040afd69684c@saas_stack_varnish:6080
CREATED:20251117T210729Z
LAST-MODIFIED:20251117T210746Z
URL:https://lebanon-laclede.ploud.net/calendar-news/events/book-for-buck-h
 oliday-edition-sale
END:VEVENT
BEGIN:VTIMEZONE
TZID:US/Central
X-LIC-LOCATION:US/Central
BEGIN:STANDARD
DTSTART:20251102T010000
TZNAME:CST
TZOFFSETFROM:-0500
TZOFFSETTO:-0600
END:STANDARD
END:VTIMEZONE
END:VCALENDAR
