BEGIN:VCALENDAR
VERSION:2.0
PRODID:-//Plone.org//NONSGML plone.app.event//EN
X-WR-TIMEZONE:US/Central
BEGIN:VEVENT
SUMMARY:Book$ for Buck$: Holiday Edition
DTSTART;TZID=US/Central:20231209T100000
DTEND;TZID=US/Central:20231209T140000
DTSTAMP:20260421T142349Z
UID:ad269fe63c914e2b841c62aa0a3f77d7@saas_stack_varnish:6080
CREATED:20231109T172420Z
LAST-MODIFIED:20231109T172431Z
URL:https://lebanon-laclede.ploud.net/calendar-news/events/book-for-buck-h
 oliday-edition
END:VEVENT
BEGIN:VTIMEZONE
TZID:US/Central
X-LIC-LOCATION:US/Central
BEGIN:STANDARD
DTSTART:20231105T010000
TZNAME:CST
TZOFFSETFROM:-0500
TZOFFSETTO:-0600
END:STANDARD
END:VTIMEZONE
END:VCALENDAR
