BEGIN:VCALENDAR
VERSION:2.0
PRODID:-//Plone.org//NONSGML plone.app.event//EN
X-WR-TIMEZONE:US/Central
BEGIN:VEVENT
SUMMARY:Book$ for Buck$: National Library Week Sale
DTSTART;TZID=US/Central:20250412T100000
DTEND;TZID=US/Central:20250412T140000
DTSTAMP:20260421T191252Z
UID:8654dd51cf864e56bee0f5b7db669fd5@saas_stack_varnish:6080
CREATED:20250331T155253Z
LAST-MODIFIED:20250331T155303Z
URL:https://lebanon-laclede.ploud.net/calendar-news/events/book-for-buck-n
 ational-library-week-sale
END:VEVENT
BEGIN:VTIMEZONE
TZID:US/Central
X-LIC-LOCATION:US/Central
BEGIN:DAYLIGHT
DTSTART:20250309T030000
TZNAME:CDT
TZOFFSETFROM:-0600
TZOFFSETTO:-0500
END:DAYLIGHT
END:VTIMEZONE
END:VCALENDAR
