BEGIN:VCALENDAR
VERSION:2.0
PRODID:-//Plone.org//NONSGML plone.app.event//EN
X-WR-TIMEZONE:US/Central
BEGIN:VEVENT
SUMMARY:Book$ for Buck$: Spring Edition
DTSTART;TZID=US/Central:20240406T100000
DTEND;TZID=US/Central:20240406T140000
DTSTAMP:20260421T171831Z
UID:83c3c44284fc4064b742f70f8edda707@saas_stack_varnish:6080
CREATED:20240313T030814Z
LAST-MODIFIED:20240313T030823Z
URL:https://lebanon-laclede.ploud.net/calendar-news/events/book-for-buck-s
 pring-edition
END:VEVENT
BEGIN:VTIMEZONE
TZID:US/Central
X-LIC-LOCATION:US/Central
BEGIN:DAYLIGHT
DTSTART:20240310T030000
TZNAME:CDT
TZOFFSETFROM:-0600
TZOFFSETTO:-0500
END:DAYLIGHT
END:VTIMEZONE
END:VCALENDAR
