BEGIN:VCALENDAR
VERSION:2.0
PRODID:-//Plone.org//NONSGML plone.app.event//EN
X-WR-TIMEZONE:US/Central
BEGIN:VEVENT
SUMMARY:Buried History in Your Town!
DTSTART;TZID=US/Central:20251011T120000
DTEND;TZID=US/Central:20251011T133000
DTSTAMP:20260421T111447Z
UID:91a657b516d14b18abab1ca94d585b9a@saas_stack_varnish:6080
CREATED:20250514T030308Z
LAST-MODIFIED:20250710T132851Z
URL:https://lebanon-laclede.ploud.net/calendar-news/events/buried-history-
 in-your-town
END:VEVENT
BEGIN:VTIMEZONE
TZID:US/Central
X-LIC-LOCATION:US/Central
BEGIN:DAYLIGHT
DTSTART:20250309T030000
TZNAME:CDT
TZOFFSETFROM:-0600
TZOFFSETTO:-0500
END:DAYLIGHT
END:VTIMEZONE
END:VCALENDAR
