BEGIN:VCALENDAR
VERSION:2.0
PRODID:-//Plone.org//NONSGML plone.app.event//EN
X-WR-TIMEZONE:US/Central
BEGIN:VEVENT
SUMMARY:Chalk the Walk
DTSTART;TZID=US/Central:20250728T100000
DTEND;TZID=US/Central:20250728T120000
DTSTAMP:20260421T141107Z
UID:2fb661209b02462c9f4e0914029cf143@saas_stack_varnish:6080
CREATED:20250507T201037Z
LAST-MODIFIED:20250507T201043Z
URL:https://lebanon-laclede.ploud.net/calendar-news/events/chalk-the-walk-
 1
END:VEVENT
BEGIN:VTIMEZONE
TZID:US/Central
X-LIC-LOCATION:US/Central
BEGIN:DAYLIGHT
DTSTART:20250309T030000
TZNAME:CDT
TZOFFSETFROM:-0600
TZOFFSETTO:-0500
END:DAYLIGHT
END:VTIMEZONE
END:VCALENDAR
