BEGIN:VCALENDAR
VERSION:2.0
PRODID:-//Plone.org//NONSGML plone.app.event//EN
X-WR-TIMEZONE:US/Central
BEGIN:VEVENT
SUMMARY:Children's Room will be closed
DTSTART;VALUE=DATE:20240422
DTEND;VALUE=DATE:20240518
DTSTAMP:20260421T185808Z
UID:385326e0ea48438c9f6572a562570fee@saas_stack_varnish:6080
CREATED:20240401T210756Z
LAST-MODIFIED:20240423T192554Z
LOCATION:The Children's Room in the Library
URL:https://lebanon-laclede.ploud.net/calendar-news/events/childrens-room
END:VEVENT
END:VCALENDAR
