BEGIN:VCALENDAR
VERSION:2.0
PRODID:-//Plone.org//NONSGML plone.app.event//EN
X-WR-TIMEZONE:US/Central
BEGIN:VEVENT
SUMMARY:Chocolate Lovers Tea Party
DTSTART;TZID=US/Central:20240203T130000
DTEND;TZID=US/Central:20240203T150000
DTSTAMP:20260421T154328Z
UID:1637a4194a594550a935b0dfa02e4621@saas_stack_varnish:6080
CONTACT:https://l.facebook.com/l.php?u=https%3A%2F%2Fdocs.google.com%2Ffor
 ms%2Fd%2F16acOa-mKhl8bnr8J2-XW3lb2faRTjpM5URk9WWAIJzU%2Fviewform%3Fedit_re
 quested%3Dtrue%26fbclid%3DIwAR3VZbpkE0WEzz_ATyKoowaZ7-WogIsiJkk2ewJnEDHS0K
 mYs7tX_e7Lhk4&h=AT2WoQ3mDvgkUV5CigBhdzzwk5MZkomc079Dy28DbWPSZUOLQPgF59ndXS
 Qc3qzznSc_WgnPJe7CZxI5-IasRAxGd2T2Aq7MhPSPiH-O8NwmSmvIkY4jZa3kQnURamvlIWDu
 &__tn__=q&c[0]=AT0wrboatDsAqueMjJeTkVhEJaICmNL2SgLjiG-InJqoJviuFIHMMzDhWXB
 Tjk224lZ4JPUBUB0SA0yY0Pc8Zgy9PY4A1xVQgmheVxJHQ8BIzgYQ-nGIBG4bbaoLOeJjC94Fr
 VI1-G0hAiX9igMvkwdvl7M2
CREATED:20240124T202637Z
LAST-MODIFIED:20240124T202654Z
URL:https://lebanon-laclede.ploud.net/calendar-news/events/chocolate-lover
 s-tea-party
END:VEVENT
BEGIN:VTIMEZONE
TZID:US/Central
X-LIC-LOCATION:US/Central
BEGIN:STANDARD
DTSTART:20231105T010000
TZNAME:CST
TZOFFSETFROM:-0500
TZOFFSETTO:-0600
END:STANDARD
END:VTIMEZONE
END:VCALENDAR
