BEGIN:VCALENDAR
VERSION:2.0
PRODID:-//Plone.org//NONSGML plone.app.event//EN
X-WR-TIMEZONE:US/Central
BEGIN:VEVENT
SUMMARY:Christmas Open House- Kinderhook Treasures Giftshop
DTSTART;TZID=US/Central:20241207T100000
DTEND;TZID=US/Central:20241207T160000
DTSTAMP:20260421T233612Z
UID:943631e6bd7e477d98e0c34ff5fca26d@saas_stack_varnish:6080
CREATED:20241202T193708Z
LAST-MODIFIED:20241202T193732Z
URL:https://lebanon-laclede.ploud.net/calendar-news/events/christmas-open-
 house-kinderhook-treasures-giftshop
END:VEVENT
BEGIN:VTIMEZONE
TZID:US/Central
X-LIC-LOCATION:US/Central
BEGIN:STANDARD
DTSTART:20241103T010000
TZNAME:CST
TZOFFSETFROM:-0500
TZOFFSETTO:-0600
END:STANDARD
END:VTIMEZONE
END:VCALENDAR
