BEGIN:VCALENDAR
VERSION:2.0
PRODID:-//Plone.org//NONSGML plone.app.event//EN
X-WR-TIMEZONE:US/Central
BEGIN:VEVENT
SUMMARY:Christmas Open House
DTSTART;TZID=US/Central:20251213T100000
DTEND;TZID=US/Central:20251213T160000
DTSTAMP:20260421T093815Z
UID:6cefe321779f47aebfc283e385747089@saas_stack_varnish:6080
CREATED:20251117T211049Z
LAST-MODIFIED:20251117T211930Z
URL:https://lebanon-laclede.ploud.net/calendar-news/events/christmas-open-
 house
END:VEVENT
BEGIN:VTIMEZONE
TZID:US/Central
X-LIC-LOCATION:US/Central
BEGIN:STANDARD
DTSTART:20251102T010000
TZNAME:CST
TZOFFSETFROM:-0500
TZOFFSETTO:-0600
END:STANDARD
END:VTIMEZONE
END:VCALENDAR
