BEGIN:VCALENDAR
VERSION:2.0
PRODID:-//Plone.org//NONSGML plone.app.event//EN
X-WR-TIMEZONE:US/Central
BEGIN:VEVENT
SUMMARY:Christmas Tea Party
DTSTART;TZID=US/Central:20231209T130000
DTEND;TZID=US/Central:20231209T150000
DTSTAMP:20260421T142214Z
UID:e2ca6dee8f4a422a8f19ee17adc66ccd@saas_stack_varnish:6080
CONTACT:https://docs.google.com/forms/d/1h1GoVjNOVqydFvaV4Yuv6LfAcWq9Vuvau
 2bLfo0k83o/viewform?edit_requested=true&fbclid=IwAR0wSDrKRvPWjB4a_o6bP3610
 h8tMZco3cURNxV990WVgW_Q7B28UNnebMk
CREATED:20231109T173226Z
LAST-MODIFIED:20231109T173352Z
URL:https://lebanon-laclede.ploud.net/calendar-news/events/christmas-tea-p
 arty
END:VEVENT
BEGIN:VTIMEZONE
TZID:US/Central
X-LIC-LOCATION:US/Central
BEGIN:STANDARD
DTSTART:20231105T010000
TZNAME:CST
TZOFFSETFROM:-0500
TZOFFSETTO:-0600
END:STANDARD
END:VTIMEZONE
END:VCALENDAR
